BEGIN:VCALENDAR
VERSION:2.0
PRODID:-//Tukios.com/
BEGIN:VEVENT
UID:31e5c762-a0c5-41ab-ae45-c96619412baa@www.jmgardens.com
DTSTAMP:20260422T194858Z
DTSTART:20260424T180000Z
DTEND:20260424T190000Z
SUMMARY:Visitation
DESCRIPTION:
URL:https://www.jmgardens.com/obituaries/wanda-dansby
LOCATION:Jefferson Memorial Funeral Home 1591 Gadsden Highway  Birmingham 
	AL 35235
GEO:33.6001557;-86.6399797
END:VEVENT
END:VCALENDAR