BEGIN:VCALENDAR
VERSION:2.0
PRODID:-//Tukios.com/
BEGIN:VEVENT
UID:f299e7f6-d6fa-4a5b-88b8-f348cdb594ae@www.jmgardens.com
DTSTAMP:20260422T195140Z
DTSTART:20260424T190000Z
DTEND:20260424T200000Z
SUMMARY:Funeral Service
DESCRIPTION:
URL:https://www.jmgardens.com/obituaries/wanda-dansby
LOCATION:Jefferson Memorial Funeral Home 1591 Gadsden Highway  Birmingham 
	AL 35235
GEO:33.6001557;-86.6399797
END:VEVENT
END:VCALENDAR