BEGIN:VCALENDAR
VERSION:2.0
PRODID:-//Tukios.com/
BEGIN:VEVENT
UID:18546a92-5ce6-4cd4-b80e-6798054ad1c0@www.jmgardens.com
DTSTAMP:20260421T234344Z
DTSTART:20260422T150000Z
DTEND:20260422T160000Z
SUMMARY:Graveside Service
DESCRIPTION:
URL:https://www.jmgardens.com/obituaries/peggy-hinote
LOCATION: 1591 Gadsden Hwy  Birmingham AL 35235
GEO:33.6001557;-86.6399797
END:VEVENT
END:VCALENDAR