BEGIN:VCALENDAR
VERSION:2.0
PRODID:-//Tukios.com/
BEGIN:VEVENT
UID:77b59f72-46aa-463d-bd19-2fa013fc580f@www.jmgardens.com
DTSTAMP:20260421T215253Z
DTSTART:20260425T150000Z
DTEND:20260425T160000Z
SUMMARY:Graveside Service
DESCRIPTION:
URL:https://www.jmgardens.com/obituaries/martha-byram
LOCATION: 1591 Gadsden Hwy  Birmingham AL 35235
GEO:33.6001557;-86.6399797
END:VEVENT
END:VCALENDAR