BEGIN:VCALENDAR
VERSION:2.0
PRODID:-//Tukios.com/
BEGIN:VEVENT
UID:c2c7ab58-bb4b-4244-a513-f327f8c1d14e@www.jmgardens.com
DTSTAMP:20260420T213612Z
DTSTART:20260423T190000Z
DTEND:20260423T193000Z
SUMMARY:Graveside Service
DESCRIPTION:
URL:https://www.jmgardens.com/obituaries/julius-cook
LOCATION:Enon Baptist Church  Cemetery     
GEO:0;0
END:VEVENT
END:VCALENDAR