BEGIN:VCALENDAR
VERSION:2.0
PRODID:-//Tukios.com/
BEGIN:VEVENT
UID:0cadc065-cfaf-464e-b130-386dcb73aee7@www.jmgardens.com
DTSTAMP:20260420T084606Z
DTSTART:20260418T170000Z
DTEND:20260418T180000Z
SUMMARY:Memorial Service
DESCRIPTION:
URL:https://www.jmgardens.com/obituaries/james-brandon-bradley
LOCATION:Jefferson Memorial Funeral Home 1591 Gadsden Highway  Birmingham 
	AL 35235
GEO:33.6001557;-86.6399797
END:VEVENT
END:VCALENDAR