BEGIN:VCALENDAR
VERSION:2.0
PRODID:-//Tukios.com/
BEGIN:VEVENT
UID:809321e6-ffb6-413a-bf3b-7ae64ced6de7@www.jmgardens.com
DTSTAMP:20260421T201749Z
DTSTART:20260425T180000Z
DTEND:20260425T190000Z
SUMMARY:Visitation
DESCRIPTION:
URL:https://www.jmgardens.com/obituaries/barbara-walker
LOCATION:Jefferson Memorial Funeral Home 1591 Gadsden Highway  Birmingham 
	AL 35235
GEO:33.6001557;-86.6399797
END:VEVENT
END:VCALENDAR