BEGIN:VCALENDAR
VERSION:2.0
PRODID:-//Tukios.com/
BEGIN:VEVENT
UID:5ab10b59-b238-4592-b540-5d735b954616@www.jmgardens.com
DTSTAMP:20260421T201039Z
DTSTART:20260425T190000Z
DTEND:20260425T200000Z
SUMMARY:Funeral Service
DESCRIPTION:
URL:https://www.jmgardens.com/obituaries/barbara-walker
LOCATION:Jefferson Memorial Funeral Home 1591 Gadsden Highway  Birmingham 
	AL 35235
GEO:33.6001557;-86.6399797
END:VEVENT
END:VCALENDAR